BEGIN:VCALENDAR
VERSION:2.0
PRODID:-//Contratero//ES
CALSCALE:GREGORIAN
METHOD:PUBLISH
BEGIN:VEVENT
UID:DNA 511/2023@contratero.es
DTSTAMP:20260424T160620Z
DTSTART:20240108T235959
DTEND:20240109T005959
SUMMARY:Cierre: Licencias software desarrollo gammasim 2024
DESCRIPTION:Licencias software desarrollo gammasim 2024\\n\\nOrganismo: Dirección Económico-Financiera de ENAIRE\\n\\nVer en Contratero: https://contratero.es/contracts/DNA 511/2023
URL:https://contratero.es/contracts/DNA 511/2023
STATUS:CONFIRMED
BEGIN:VALARM
TRIGGER:-P1D
ACTION:DISPLAY
DESCRIPTION:Recordatorio: Licencias software desarrollo 
END:VALARM
END:VEVENT
END:VCALENDAR